BEGIN:VCALENDAR
VERSION:2.0
PRODID:icalendar-ruby
CALSCALE:GREGORIAN
METHOD:PUBLISH
BEGIN:VEVENT
DTSTAMP:20260422T183544Z
UID:28-593326@oakwoodcrc.org
DTSTART:20270131T141500Z
DTEND:20270131T151500Z
CLASS:PUBLIC
CREATED:20260422T124153
DESCRIPTION:Join us before our Sunday service for Sunday School. We meet ea
 ch Sunday morning during the school year from 9:10am to 9:50am. \nClasses
  are available for kids from Kindergarten to 12th grade and for adults.\nW
 e'd love to have you there!
LAST-MODIFIED:20260422T124153
LOCATION:
SUMMARY:Sunday School
URL;VALUE=URI:https://www.oakwoodcrc.org/events/sunday-school/2027-01-31
END:VEVENT
END:VCALENDAR
